BEGIN:VCALENDAR
VERSION:2.0
PRODID:-//D66 lokaal - ECPv5.1.6//NONSGML v1.0//EN
CALSCALE:GREGORIAN
METHOD:PUBLISH
X-WR-CALNAME:D66 lokaal
X-ORIGINAL-URL:https://d66lokaal.nl/lokaal
X-WR-CALDESC:Evenementen voor D66 lokaal
BEGIN:VTIMEZONE
TZID:Europe/Amsterdam
BEGIN:DAYLIGHT
TZOFFSETFROM:+0100
TZOFFSETTO:+0200
TZNAME:CEST
DTSTART:20170326T010000
END:DAYLIGHT
BEGIN:STANDARD
TZOFFSETFROM:+0200
TZOFFSETTO:+0100
TZNAME:CET
DTSTART:20171029T010000
END:STANDARD
END:VTIMEZONE
BEGIN:VEVENT
DTSTART;TZID=Europe/Amsterdam:20171207T200000
DTEND;TZID=Europe/Amsterdam:20171207T223000
DTSTAMP:20260421T020616
CREATED:20171024T115336Z
LAST-MODIFIED:20171030T072233Z
UID:100-1512676800-1512685800@d66lokaal.nl
SUMMARY:AAV - Algemene AfdelingsVergadering Etten-Leur/Moerdijk
DESCRIPTION:
URL:https://d66lokaal.nl/lokaal/event/aav-algemene-afdelingsvergadering-etten-leurmoerdijk/
LOCATION:Wijkgebouw De Linde\, Lambertusstraat 7\, Etten-Leur
END:VEVENT
END:VCALENDAR